BEGIN:VCALENDAR
VERSION:2.0
PRODID:-//CIPP Consulting - ECPv6.15.20//NONSGML v1.0//EN
CALSCALE:GREGORIAN
METHOD:PUBLISH
X-ORIGINAL-URL:https://cippconsulting.com
X-WR-CALDESC:Événements pour CIPP Consulting
REFRESH-INTERVAL;VALUE=DURATION:PT1H
X-Robots-Tag:noindex
X-PUBLISHED-TTL:PT1H
BEGIN:VTIMEZONE
TZID:America/Toronto
BEGIN:DAYLIGHT
TZOFFSETFROM:-0500
TZOFFSETTO:-0400
TZNAME:EDT
DTSTART:20250309T070000
END:DAYLIGHT
BEGIN:STANDARD
TZOFFSETFROM:-0400
TZOFFSETTO:-0500
TZNAME:EST
DTSTART:20251102T060000
END:STANDARD
BEGIN:DAYLIGHT
TZOFFSETFROM:-0500
TZOFFSETTO:-0400
TZNAME:EDT
DTSTART:20260308T070000
END:DAYLIGHT
BEGIN:STANDARD
TZOFFSETFROM:-0400
TZOFFSETTO:-0500
TZNAME:EST
DTSTART:20261101T060000
END:STANDARD
BEGIN:DAYLIGHT
TZOFFSETFROM:-0500
TZOFFSETTO:-0400
TZNAME:EDT
DTSTART:20270314T070000
END:DAYLIGHT
BEGIN:STANDARD
TZOFFSETFROM:-0400
TZOFFSETTO:-0500
TZNAME:EST
DTSTART:20271107T060000
END:STANDARD
END:VTIMEZONE
BEGIN:VEVENT
DTSTART;TZID=America/Toronto:20260818T080000
DTEND;TZID=America/Toronto:20260829T170000
DTSTAMP:20260422T032834
CREATED:20260420T001731Z
LAST-MODIFIED:20260420T001731Z
UID:2151-1787040000-1788022800@cippconsulting.com
SUMMARY:Istanbul\, Turquie
DESCRIPTION:Maîtriser le dispositif de la facture normalisée : cadre normatif\, contrôle\, vérification et exploitation des données \nCode: T007 \nDurée: 2 semaines
URL:https://cippconsulting.com/seminaires/istanbul-turquie-7/
LOCATION:Turquie\, Istanbul\, Turquie
CATEGORIES:Turquie
ATTACH;FMTTYPE=image/png:https://cippconsulting.com/wp-content/uploads/2023/03/Istanbul-1.png
ORGANIZER;CN="Ma%C3%AEtriser le dispositif de la facture normalis%C3%A9e%C2%A0%3A cadre normatif%2C contr%C3%B4le%2C v%C3%A9rification et exploitation des donn%C3%A9es":MAILTO:contact@cippconsulting.com
END:VEVENT
END:VCALENDAR