BEGIN:VCALENDAR
VERSION:2.0
PRODID:-//CIPP Consulting - ECPv6.15.20//NONSGML v1.0//EN
CALSCALE:GREGORIAN
METHOD:PUBLISH
X-WR-CALNAME:CIPP Consulting
X-ORIGINAL-URL:https://cippconsulting.com
X-WR-CALDESC:Événements pour CIPP Consulting
REFRESH-INTERVAL;VALUE=DURATION:PT1H
X-Robots-Tag:noindex
X-PUBLISHED-TTL:PT1H
BEGIN:VTIMEZONE
TZID:America/Toronto
BEGIN:DAYLIGHT
TZOFFSETFROM:-0500
TZOFFSETTO:-0400
TZNAME:EDT
DTSTART:20250309T070000
END:DAYLIGHT
BEGIN:STANDARD
TZOFFSETFROM:-0400
TZOFFSETTO:-0500
TZNAME:EST
DTSTART:20251102T060000
END:STANDARD
BEGIN:DAYLIGHT
TZOFFSETFROM:-0500
TZOFFSETTO:-0400
TZNAME:EDT
DTSTART:20260308T070000
END:DAYLIGHT
BEGIN:STANDARD
TZOFFSETFROM:-0400
TZOFFSETTO:-0500
TZNAME:EST
DTSTART:20261101T060000
END:STANDARD
BEGIN:DAYLIGHT
TZOFFSETFROM:-0500
TZOFFSETTO:-0400
TZNAME:EDT
DTSTART:20270314T070000
END:DAYLIGHT
BEGIN:STANDARD
TZOFFSETFROM:-0400
TZOFFSETTO:-0500
TZNAME:EST
DTSTART:20271107T060000
END:STANDARD
END:VTIMEZONE
BEGIN:VEVENT
DTSTART;TZID=America/Toronto:20260525T080000
DTEND;TZID=America/Toronto:20260605T170000
DTSTAMP:20260422T032641
CREATED:20230411T152832Z
LAST-MODIFIED:20260420T001220Z
UID:1458-1779696000-1780678800@cippconsulting.com
SUMMARY:Istanbul\, Turquie
DESCRIPTION:Intelligence artificielle et productivité administrative : optimiser le rôle du secrétaire et de l’assistant de direction à l’ère du digital \nCode: T005 \nDurée: 2 semaine \n 
URL:https://cippconsulting.com/seminaires/istanbul-turquie/
LOCATION:Istanbul\, Istanbul\, Turquie
CATEGORIES:Turquie
ATTACH;FMTTYPE=image/png:https://cippconsulting.com/wp-content/uploads/2023/03/Istanbul-2.png
ORGANIZER;CN="Intelligence artificielle et productivit%C3%A9 administrative %3A optimiser le r%C3%B4le du secr%C3%A9taire et de l%E2%80%99assistant de direction %C3%A0 l%E2%80%99%C3%A8re du digital":MAILTO:contact@cippconsulting.com
END:VEVENT
END:VCALENDAR