BEGIN:VCALENDAR
VERSION:2.0
PRODID:-//CIPP Consulting - ECPv6.15.20//NONSGML v1.0//EN
CALSCALE:GREGORIAN
METHOD:PUBLISH
X-ORIGINAL-URL:https://cippconsulting.com
X-WR-CALDESC:Événements pour CIPP Consulting
REFRESH-INTERVAL;VALUE=DURATION:PT1H
X-Robots-Tag:noindex
X-PUBLISHED-TTL:PT1H
BEGIN:VTIMEZONE
TZID:America/Toronto
BEGIN:DAYLIGHT
TZOFFSETFROM:-0500
TZOFFSETTO:-0400
TZNAME:EDT
DTSTART:20240310T070000
END:DAYLIGHT
BEGIN:STANDARD
TZOFFSETFROM:-0400
TZOFFSETTO:-0500
TZNAME:EST
DTSTART:20241103T060000
END:STANDARD
BEGIN:DAYLIGHT
TZOFFSETFROM:-0500
TZOFFSETTO:-0400
TZNAME:EDT
DTSTART:20250309T070000
END:DAYLIGHT
BEGIN:STANDARD
TZOFFSETFROM:-0400
TZOFFSETTO:-0500
TZNAME:EST
DTSTART:20251102T060000
END:STANDARD
BEGIN:DAYLIGHT
TZOFFSETFROM:-0500
TZOFFSETTO:-0400
TZNAME:EDT
DTSTART:20260308T070000
END:DAYLIGHT
BEGIN:STANDARD
TZOFFSETFROM:-0400
TZOFFSETTO:-0500
TZNAME:EST
DTSTART:20261101T060000
END:STANDARD
END:VTIMEZONE
BEGIN:VEVENT
DTSTART;TZID=America/Toronto:20250707T080000
DTEND;TZID=America/Toronto:20250718T170000
DTSTAMP:20260422T142943
CREATED:20241116T020009Z
LAST-MODIFIED:20241116T020009Z
UID:1979-1751875200-1752858000@cippconsulting.com
SUMMARY:Shanghai\, Chine
DESCRIPTION:Réforme des administrations publiques : aspects organisationnels\, stratégiques\, humains et financiers \nCode: S002 \nDurée: 2 semaines
URL:https://cippconsulting.com/seminaires/shanghai-chine-2/
LOCATION:Chine\, China
CATEGORIES:Chine
ATTACH;FMTTYPE=image/jpeg:https://cippconsulting.com/wp-content/uploads/2024/11/shanghai-2129813_640.jpg
ORGANIZER;CN="R%C3%A9forme des administrations publiques %3A aspects organisationnels%2C strat%C3%A9giques%2C humains et financiers":MAILTO:contact@cippconsulting.com
END:VEVENT
END:VCALENDAR