BEGIN:VCALENDAR
VERSION:2.0
PRODID:-//CIPP Consulting - ECPv6.15.20//NONSGML v1.0//EN
CALSCALE:GREGORIAN
METHOD:PUBLISH
X-WR-CALNAME:CIPP Consulting
X-ORIGINAL-URL:https://cippconsulting.com
X-WR-CALDESC:Événements pour CIPP Consulting
REFRESH-INTERVAL;VALUE=DURATION:PT1H
X-Robots-Tag:noindex
X-PUBLISHED-TTL:PT1H
BEGIN:VTIMEZONE
TZID:America/Toronto
BEGIN:DAYLIGHT
TZOFFSETFROM:-0500
TZOFFSETTO:-0400
TZNAME:EDT
DTSTART:20240310T070000
END:DAYLIGHT
BEGIN:STANDARD
TZOFFSETFROM:-0400
TZOFFSETTO:-0500
TZNAME:EST
DTSTART:20241103T060000
END:STANDARD
BEGIN:DAYLIGHT
TZOFFSETFROM:-0500
TZOFFSETTO:-0400
TZNAME:EDT
DTSTART:20250309T070000
END:DAYLIGHT
BEGIN:STANDARD
TZOFFSETFROM:-0400
TZOFFSETTO:-0500
TZNAME:EST
DTSTART:20251102T060000
END:STANDARD
BEGIN:DAYLIGHT
TZOFFSETFROM:-0500
TZOFFSETTO:-0400
TZNAME:EDT
DTSTART:20260308T070000
END:DAYLIGHT
BEGIN:STANDARD
TZOFFSETFROM:-0400
TZOFFSETTO:-0500
TZNAME:EST
DTSTART:20261101T060000
END:STANDARD
END:VTIMEZONE
BEGIN:VEVENT
DTSTART;TZID=America/Toronto:20250915T080000
DTEND;TZID=America/Toronto:20250926T170000
DTSTAMP:20260422T110402
CREATED:20230411T151734Z
LAST-MODIFIED:20241116T004104Z
UID:1448-1757923200-1758906000@cippconsulting.com
SUMMARY:Paris\, France
DESCRIPTION:Maîtriser les règles de contrôle de la TVA : techniques et outils de vérification fiscale \nCode: P016 \nDurée: 2 semaine
URL:https://cippconsulting.com/seminaires/paris-france-17/
LOCATION:France\, Paris\, France
CATEGORIES:France
ATTACH;FMTTYPE=image/png:https://cippconsulting.com/wp-content/uploads/2023/03/Paris-1.png
ORGANIZER;CN="Ma%C3%AEtriser les r%C3%A8gles de contr%C3%B4le de la TVA%C2%A0%3A techniques et outils de v%C3%A9rification fiscale":MAILTO:contact@cippconsulting.com
END:VEVENT
END:VCALENDAR