BEGIN:VCALENDAR
VERSION:2.0
PRODID:-//CIPP Consulting - ECPv6.15.20//NONSGML v1.0//EN
CALSCALE:GREGORIAN
METHOD:PUBLISH
X-WR-CALNAME:CIPP Consulting
X-ORIGINAL-URL:https://cippconsulting.com
X-WR-CALDESC:Événements pour CIPP Consulting
REFRESH-INTERVAL;VALUE=DURATION:PT1H
X-Robots-Tag:noindex
X-PUBLISHED-TTL:PT1H
BEGIN:VTIMEZONE
TZID:America/Toronto
BEGIN:DAYLIGHT
TZOFFSETFROM:-0500
TZOFFSETTO:-0400
TZNAME:EDT
DTSTART:20250309T070000
END:DAYLIGHT
BEGIN:STANDARD
TZOFFSETFROM:-0400
TZOFFSETTO:-0500
TZNAME:EST
DTSTART:20251102T060000
END:STANDARD
BEGIN:DAYLIGHT
TZOFFSETFROM:-0500
TZOFFSETTO:-0400
TZNAME:EDT
DTSTART:20260308T070000
END:DAYLIGHT
BEGIN:STANDARD
TZOFFSETFROM:-0400
TZOFFSETTO:-0500
TZNAME:EST
DTSTART:20261101T060000
END:STANDARD
BEGIN:DAYLIGHT
TZOFFSETFROM:-0500
TZOFFSETTO:-0400
TZNAME:EDT
DTSTART:20270314T070000
END:DAYLIGHT
BEGIN:STANDARD
TZOFFSETFROM:-0400
TZOFFSETTO:-0500
TZNAME:EST
DTSTART:20271107T060000
END:STANDARD
END:VTIMEZONE
BEGIN:VEVENT
DTSTART;TZID=America/Toronto:20261102T080000
DTEND;TZID=America/Toronto:20261113T170000
DTSTAMP:20260422T231654
CREATED:20260111T171602Z
LAST-MODIFIED:20260111T171602Z
UID:2052-1793606400-1794589200@cippconsulting.com
SUMMARY:Montréal\, Canada
DESCRIPTION:Vérification et contrôle des finances publiques dans le cadre de l’audit de performance \nCode: M010 \nDurée: 2 semaines
URL:https://cippconsulting.com/seminaires/montreal-canada-6/
LOCATION:Canada\, Montréal\, Quebec\, Canada
CATEGORIES:Canada
ATTACH;FMTTYPE=image/png:https://cippconsulting.com/wp-content/uploads/2023/03/Montreal1.png
ORGANIZER;CN="V%C3%A9rification et contr%C3%B4le des finances publiques dans le cadre de l'audit de performance":MAILTO:contact@cippconsulting.com
END:VEVENT
END:VCALENDAR