BEGIN:VCALENDAR
VERSION:2.0
PRODID:-//CIPP Consulting - ECPv6.15.20//NONSGML v1.0//EN
CALSCALE:GREGORIAN
METHOD:PUBLISH
X-WR-CALNAME:CIPP Consulting
X-ORIGINAL-URL:https://cippconsulting.com
X-WR-CALDESC:Événements pour CIPP Consulting
REFRESH-INTERVAL;VALUE=DURATION:PT1H
X-Robots-Tag:noindex
X-PUBLISHED-TTL:PT1H
BEGIN:VTIMEZONE
TZID:America/Toronto
BEGIN:DAYLIGHT
TZOFFSETFROM:-0500
TZOFFSETTO:-0400
TZNAME:EDT
DTSTART:20250309T070000
END:DAYLIGHT
BEGIN:STANDARD
TZOFFSETFROM:-0400
TZOFFSETTO:-0500
TZNAME:EST
DTSTART:20251102T060000
END:STANDARD
BEGIN:DAYLIGHT
TZOFFSETFROM:-0500
TZOFFSETTO:-0400
TZNAME:EDT
DTSTART:20260308T070000
END:DAYLIGHT
BEGIN:STANDARD
TZOFFSETFROM:-0400
TZOFFSETTO:-0500
TZNAME:EST
DTSTART:20261101T060000
END:STANDARD
BEGIN:DAYLIGHT
TZOFFSETFROM:-0500
TZOFFSETTO:-0400
TZNAME:EDT
DTSTART:20270314T070000
END:DAYLIGHT
BEGIN:STANDARD
TZOFFSETFROM:-0400
TZOFFSETTO:-0500
TZNAME:EST
DTSTART:20271107T060000
END:STANDARD
END:VTIMEZONE
BEGIN:VEVENT
DTSTART;TZID=America/Toronto:20260914T080000
DTEND;TZID=America/Toronto:20260925T170000
DTSTAMP:20260422T084714
CREATED:20230411T150541Z
LAST-MODIFIED:20260111T165912Z
UID:1438-1789372800-1790355600@cippconsulting.com
SUMMARY:Montréal\, Canada
DESCRIPTION:Lutte contre le Blanchiment de capitaux et Système de gestion anti-corruption \nCode: M007 \nDurée: 2 semaines
URL:https://cippconsulting.com/seminaires/montreal-canada8/
LOCATION:Montréal\, Montreal\, Canada
CATEGORIES:Canada
ATTACH;FMTTYPE=image/png:https://cippconsulting.com/wp-content/uploads/2023/03/Montreal-1.png
ORGANIZER;CN="Lutte contre le Blanchiment de capitaux et Syst%C3%A8me de gestion anti-corruption":MAILTO:contact@cippconsulting.com
END:VEVENT
END:VCALENDAR