BEGIN:VCALENDAR
VERSION:2.0
PRODID:-//CIPP Consulting - ECPv6.15.20//NONSGML v1.0//EN
CALSCALE:GREGORIAN
METHOD:PUBLISH
X-WR-CALNAME:CIPP Consulting
X-ORIGINAL-URL:https://cippconsulting.com
X-WR-CALDESC:Événements pour CIPP Consulting
REFRESH-INTERVAL;VALUE=DURATION:PT1H
X-Robots-Tag:noindex
X-PUBLISHED-TTL:PT1H
BEGIN:VTIMEZONE
TZID:America/Toronto
BEGIN:DAYLIGHT
TZOFFSETFROM:-0500
TZOFFSETTO:-0400
TZNAME:EDT
DTSTART:20250309T070000
END:DAYLIGHT
BEGIN:STANDARD
TZOFFSETFROM:-0400
TZOFFSETTO:-0500
TZNAME:EST
DTSTART:20251102T060000
END:STANDARD
BEGIN:DAYLIGHT
TZOFFSETFROM:-0500
TZOFFSETTO:-0400
TZNAME:EDT
DTSTART:20260308T070000
END:DAYLIGHT
BEGIN:STANDARD
TZOFFSETFROM:-0400
TZOFFSETTO:-0500
TZNAME:EST
DTSTART:20261101T060000
END:STANDARD
BEGIN:DAYLIGHT
TZOFFSETFROM:-0500
TZOFFSETTO:-0400
TZNAME:EDT
DTSTART:20270314T070000
END:DAYLIGHT
BEGIN:STANDARD
TZOFFSETFROM:-0400
TZOFFSETTO:-0500
TZNAME:EST
DTSTART:20271107T060000
END:STANDARD
END:VTIMEZONE
BEGIN:VEVENT
DTSTART;TZID=America/Toronto:20261109T080000
DTEND;TZID=America/Toronto:20261120T170000
DTSTAMP:20260422T163747
CREATED:20260420T012717Z
LAST-MODIFIED:20260420T012717Z
UID:2237-1794211200-1795194000@cippconsulting.com
SUMMARY:Lisbonne\, Portugal
DESCRIPTION:La collaboration et le travail d’équipe : stratégies et impacts sur la performance et le rendement des employés \nCode: L006 \nDurée: 2 semaines
URL:https://cippconsulting.com/seminaires/lisbonne-portugal-6/
LOCATION:Portugal\, Lisbonne\, Portugal
CATEGORIES:Portugal
ATTACH;FMTTYPE=image/png:https://cippconsulting.com/wp-content/uploads/2023/12/Lisbonne.png
ORGANIZER;CN="La collaboration et le travail d%E2%80%99%C3%A9quipe %3A strat%C3%A9gies et impacts sur la performance et le rendement des employ%C3%A9s":MAILTO:contact@cippconsulting.com
END:VEVENT
END:VCALENDAR