BEGIN:VCALENDAR
VERSION:2.0
PRODID:-//CIPP Consulting - ECPv6.15.20//NONSGML v1.0//EN
CALSCALE:GREGORIAN
METHOD:PUBLISH
X-WR-CALNAME:CIPP Consulting
X-ORIGINAL-URL:https://cippconsulting.com
X-WR-CALDESC:Événements pour CIPP Consulting
REFRESH-INTERVAL;VALUE=DURATION:PT1H
X-Robots-Tag:noindex
X-PUBLISHED-TTL:PT1H
BEGIN:VTIMEZONE
TZID:America/Toronto
BEGIN:DAYLIGHT
TZOFFSETFROM:-0500
TZOFFSETTO:-0400
TZNAME:EDT
DTSTART:20250309T070000
END:DAYLIGHT
BEGIN:STANDARD
TZOFFSETFROM:-0400
TZOFFSETTO:-0500
TZNAME:EST
DTSTART:20251102T060000
END:STANDARD
BEGIN:DAYLIGHT
TZOFFSETFROM:-0500
TZOFFSETTO:-0400
TZNAME:EDT
DTSTART:20260308T070000
END:DAYLIGHT
BEGIN:STANDARD
TZOFFSETFROM:-0400
TZOFFSETTO:-0500
TZNAME:EST
DTSTART:20261101T060000
END:STANDARD
BEGIN:DAYLIGHT
TZOFFSETFROM:-0500
TZOFFSETTO:-0400
TZNAME:EDT
DTSTART:20270314T070000
END:DAYLIGHT
BEGIN:STANDARD
TZOFFSETFROM:-0400
TZOFFSETTO:-0500
TZNAME:EST
DTSTART:20271107T060000
END:STANDARD
END:VTIMEZONE
BEGIN:VEVENT
DTSTART;TZID=America/Toronto:20261102T080000
DTEND;TZID=America/Toronto:20261113T170000
DTSTAMP:20260422T125540
CREATED:20260420T005351Z
LAST-MODIFIED:20260420T005351Z
UID:2190-1793606400-1794589200@cippconsulting.com
SUMMARY:Madrid\, Espagne
DESCRIPTION:Cadre budgétaire modernisé : budget programme\, performance et redevabilité \nCode: E012 \nDurée: 2 semaines
URL:https://cippconsulting.com/seminaires/madrid-espagne-15/
LOCATION:Espagne\, Madrid\, Madrid\, Spain
CATEGORIES:Espagne
ATTACH;FMTTYPE=image/jpeg:https://cippconsulting.com/wp-content/uploads/2026/01/madrid-726957_1280.jpg
ORGANIZER;CN="Cadre budg%C3%A9taire modernis%C3%A9 %3A budget programme%2C performance et redevabilit%C3%A9":MAILTO:contact@cippconsulting.com
END:VEVENT
END:VCALENDAR