BEGIN:VCALENDAR
VERSION:2.0
PRODID:-//CIPP Consulting - ECPv6.15.20//NONSGML v1.0//EN
CALSCALE:GREGORIAN
METHOD:PUBLISH
X-ORIGINAL-URL:https://cippconsulting.com
X-WR-CALDESC:Événements pour CIPP Consulting
REFRESH-INTERVAL;VALUE=DURATION:PT1H
X-Robots-Tag:noindex
X-PUBLISHED-TTL:PT1H
BEGIN:VTIMEZONE
TZID:America/Toronto
BEGIN:DAYLIGHT
TZOFFSETFROM:-0500
TZOFFSETTO:-0400
TZNAME:EDT
DTSTART:20250309T070000
END:DAYLIGHT
BEGIN:STANDARD
TZOFFSETFROM:-0400
TZOFFSETTO:-0500
TZNAME:EST
DTSTART:20251102T060000
END:STANDARD
BEGIN:DAYLIGHT
TZOFFSETFROM:-0500
TZOFFSETTO:-0400
TZNAME:EDT
DTSTART:20260308T070000
END:DAYLIGHT
BEGIN:STANDARD
TZOFFSETFROM:-0400
TZOFFSETTO:-0500
TZNAME:EST
DTSTART:20261101T060000
END:STANDARD
BEGIN:DAYLIGHT
TZOFFSETFROM:-0500
TZOFFSETTO:-0400
TZNAME:EDT
DTSTART:20270314T070000
END:DAYLIGHT
BEGIN:STANDARD
TZOFFSETFROM:-0400
TZOFFSETTO:-0500
TZNAME:EST
DTSTART:20271107T060000
END:STANDARD
END:VTIMEZONE
BEGIN:VEVENT
DTSTART;TZID=America/Toronto:20260504T080000
DTEND;TZID=America/Toronto:20260515T170000
DTSTAMP:20260422T123152
CREATED:20260215T160513Z
LAST-MODIFIED:20260215T160513Z
UID:2119-1777881600-1778864400@cippconsulting.com
SUMMARY:Madrid\, Espagne
DESCRIPTION:L’Intelligence Artificielle appliquée à la performance des services publics : principes clés et outils de mis en œuvre \nCode: E004 \nDurée: 2 semaines
URL:https://cippconsulting.com/seminaires/madrid-espagne-3/
LOCATION:Madrid\, Madrid\, Madrid\, Spain
CATEGORIES:Espagne
ATTACH;FMTTYPE=image/jpeg:https://cippconsulting.com/wp-content/uploads/2026/01/madrid-726957_1280.jpg
ORGANIZER;CN="L'Intelligence Artificielle appliqu%C3%A9e %C3%A0 la performance des services publics %3A principes cl%C3%A9s et outils de mis en %C5%93uvre":MAILTO:contact@cippconsulting.com
END:VEVENT
BEGIN:VEVENT
DTSTART;TZID=America/Toronto:20260504T080000
DTEND;TZID=America/Toronto:20260515T170000
DTSTAMP:20260422T123152
CREATED:20260420T003621Z
LAST-MODIFIED:20260420T003621Z
UID:2165-1777881600-1778864400@cippconsulting.com
SUMMARY:Madrid\, Espagne
DESCRIPTION:L’Intelligence Artificielle appliquée à la performance des services publics : principes clés et outils de mis en œuvre \nCode: E004 \nDurée: 2 semaines
URL:https://cippconsulting.com/seminaires/madrid-espagne-7/
LOCATION:Espagne\, Madrid\, Madrid\, Spain
CATEGORIES:Espagne
ATTACH;FMTTYPE=image/jpeg:https://cippconsulting.com/wp-content/uploads/2026/01/madrid-726957_1280.jpg
ORGANIZER;CN="L'Intelligence Artificielle appliqu%C3%A9e %C3%A0 la performance des services publics %3A principes cl%C3%A9s et outils de mis en %C5%93uvre":MAILTO:contact@cippconsulting.com
END:VEVENT
END:VCALENDAR