BEGIN:VCALENDAR
VERSION:2.0
PRODID:-//CIPP Consulting - ECPv6.15.20//NONSGML v1.0//EN
CALSCALE:GREGORIAN
METHOD:PUBLISH
X-ORIGINAL-URL:https://cippconsulting.com
X-WR-CALDESC:Événements pour CIPP Consulting
REFRESH-INTERVAL;VALUE=DURATION:PT1H
X-Robots-Tag:noindex
X-PUBLISHED-TTL:PT1H
BEGIN:VTIMEZONE
TZID:America/Toronto
BEGIN:DAYLIGHT
TZOFFSETFROM:-0500
TZOFFSETTO:-0400
TZNAME:EDT
DTSTART:20240310T070000
END:DAYLIGHT
BEGIN:STANDARD
TZOFFSETFROM:-0400
TZOFFSETTO:-0500
TZNAME:EST
DTSTART:20241103T060000
END:STANDARD
BEGIN:DAYLIGHT
TZOFFSETFROM:-0500
TZOFFSETTO:-0400
TZNAME:EDT
DTSTART:20250309T070000
END:DAYLIGHT
BEGIN:STANDARD
TZOFFSETFROM:-0400
TZOFFSETTO:-0500
TZNAME:EST
DTSTART:20251102T060000
END:STANDARD
BEGIN:DAYLIGHT
TZOFFSETFROM:-0500
TZOFFSETTO:-0400
TZNAME:EDT
DTSTART:20260308T070000
END:DAYLIGHT
BEGIN:STANDARD
TZOFFSETFROM:-0400
TZOFFSETTO:-0500
TZNAME:EST
DTSTART:20261101T060000
END:STANDARD
END:VTIMEZONE
BEGIN:VEVENT
DTSTART;TZID=America/Toronto:20250317T080000
DTEND;TZID=America/Toronto:20250328T170000
DTSTAMP:20260423T030118
CREATED:20231216T204330Z
LAST-MODIFIED:20241116T011636Z
UID:1625-1742198400-1743181200@cippconsulting.com
SUMMARY:Dubai\, Emirats Arabes Unis
DESCRIPTION:Planification stratégique des ressources humaines et développement des compétences des cadres et agents \nCode: D005 \nDurée: 2 semaines
URL:https://cippconsulting.com/seminaires/dubai-emirats-arabes-unis-11/
LOCATION:Dubai\, Dubai\, Émirats arabes unis
CATEGORIES:Émirats Arabes unis
ATTACH;FMTTYPE=image/png:https://cippconsulting.com/wp-content/uploads/2023/03/Dubai2.png
ORGANIZER;CN="Planification strat%C3%A9gique des ressources humaines et d%C3%A9veloppement des comp%C3%A9tences des cadres et agents":MAILTO:contact@cippconsulting.com
END:VEVENT
END:VCALENDAR