BEGIN:VCALENDAR
VERSION:2.0
PRODID:-//CIPP Consulting - ECPv6.15.20//NONSGML v1.0//EN
CALSCALE:GREGORIAN
METHOD:PUBLISH
X-ORIGINAL-URL:https://cippconsulting.com
X-WR-CALDESC:Événements pour CIPP Consulting
REFRESH-INTERVAL;VALUE=DURATION:PT1H
X-Robots-Tag:noindex
X-PUBLISHED-TTL:PT1H
BEGIN:VTIMEZONE
TZID:America/Toronto
BEGIN:DAYLIGHT
TZOFFSETFROM:-0500
TZOFFSETTO:-0400
TZNAME:EDT
DTSTART:20240310T070000
END:DAYLIGHT
BEGIN:STANDARD
TZOFFSETFROM:-0400
TZOFFSETTO:-0500
TZNAME:EST
DTSTART:20241103T060000
END:STANDARD
BEGIN:DAYLIGHT
TZOFFSETFROM:-0500
TZOFFSETTO:-0400
TZNAME:EDT
DTSTART:20250309T070000
END:DAYLIGHT
BEGIN:STANDARD
TZOFFSETFROM:-0400
TZOFFSETTO:-0500
TZNAME:EST
DTSTART:20251102T060000
END:STANDARD
BEGIN:DAYLIGHT
TZOFFSETFROM:-0500
TZOFFSETTO:-0400
TZNAME:EDT
DTSTART:20260308T070000
END:DAYLIGHT
BEGIN:STANDARD
TZOFFSETFROM:-0400
TZOFFSETTO:-0500
TZNAME:EST
DTSTART:20261101T060000
END:STANDARD
END:VTIMEZONE
BEGIN:VEVENT
DTSTART;TZID=America/Toronto:20250407T080000
DTEND;TZID=America/Toronto:20250418T170000
DTSTAMP:20260422T215404
CREATED:20241128T004341Z
LAST-MODIFIED:20241128T004341Z
UID:2007-1744012800-1744995600@cippconsulting.com
SUMMARY:Casablanca\, Maroc
DESCRIPTION:Processus de passation des marchés publics : mécanismes de vérification\, de contrôle et audit \nCode: C001 \nDurée: 2 semaines
URL:https://cippconsulting.com/seminaires/casablanca-maroc/
LOCATION:Casablanca\, Casablanca\, Morocco
CATEGORIES:Maroc
ATTACH;FMTTYPE=image/png:https://cippconsulting.com/wp-content/uploads/2023/03/Casablanca.png
ORGANIZER;CN="Processus de passation des march%C3%A9s publics %3A m%C3%A9canismes de v%C3%A9rification%2C de contr%C3%B4le et audit":MAILTO:contact@cippconsulting.com
END:VEVENT
END:VCALENDAR